BEGIN:VCALENDAR
VERSION:2.0
PRODID:-//Foster Hope - ECPv6.15.20//NONSGML v1.0//EN
CALSCALE:GREGORIAN
METHOD:PUBLISH
X-WR-CALNAME:Foster Hope
X-ORIGINAL-URL:https://fosterhope.ca
X-WR-CALDESC:Events for Foster Hope
REFRESH-INTERVAL;VALUE=DURATION:PT1H
X-Robots-Tag:noindex
X-PUBLISHED-TTL:PT1H
BEGIN:VTIMEZONE
TZID:America/Vancouver
BEGIN:DAYLIGHT
TZOFFSETFROM:-0800
TZOFFSETTO:-0700
TZNAME:PDT
DTSTART:20250309T100000
END:DAYLIGHT
BEGIN:STANDARD
TZOFFSETFROM:-0700
TZOFFSETTO:-0800
TZNAME:PST
DTSTART:20251102T090000
END:STANDARD
BEGIN:DAYLIGHT
TZOFFSETFROM:-0800
TZOFFSETTO:-0700
TZNAME:PDT
DTSTART:20260308T100000
END:DAYLIGHT
BEGIN:STANDARD
TZOFFSETFROM:-0700
TZOFFSETTO:-0800
TZNAME:PST
DTSTART:20261101T090000
END:STANDARD
BEGIN:DAYLIGHT
TZOFFSETFROM:-0800
TZOFFSETTO:-0700
TZNAME:PDT
DTSTART:20270314T100000
END:DAYLIGHT
BEGIN:STANDARD
TZOFFSETFROM:-0700
TZOFFSETTO:-0800
TZNAME:PST
DTSTART:20271107T090000
END:STANDARD
END:VTIMEZONE
BEGIN:VEVENT
DTSTART;TZID=America/Vancouver:20260603T183000
DTEND;TZID=America/Vancouver:20260603T193000
DTSTAMP:20260420T163129
CREATED:20251222T180946Z
LAST-MODIFIED:20251222T180946Z
UID:2404-1780511400-1780515000@fosterhope.ca
SUMMARY:Virtual Information Session – June 3\, 2026
DESCRIPTION:Fostering can be an incredibly rewarding experience. It can also be very challenging and frustrating at times\, and it is important to take the time to consider if it is right for you and your family at this time. \nPeople choose to become foster parents for many reasons\, but all share a love for children and the desire to help those in need without an expectation of receiving something in return.
URL:https://fosterhope.ca/event/virtual-information-session-june-3-2026/
END:VEVENT
BEGIN:VEVENT
DTSTART;TZID=America/Vancouver:20260617T120000
DTEND;TZID=America/Vancouver:20260617T130000
DTSTAMP:20260420T163129
CREATED:20251222T181100Z
LAST-MODIFIED:20251222T181100Z
UID:2406-1781697600-1781701200@fosterhope.ca
SUMMARY:Virtual Information Session – June 17\, 2026
DESCRIPTION:Fostering can be an incredibly rewarding experience. It can also be very challenging and frustrating at times\, and it is important to take the time to consider if it is right for you and your family at this time. \nPeople choose to become foster parents for many reasons\, but all share a love for children and the desire to help those in need without an expectation of receiving something in return.
URL:https://fosterhope.ca/event/virtual-information-session-june-17-2026/
END:VEVENT
END:VCALENDAR