BEGIN:VCALENDAR
VERSION:2.0
PRODID:-//Foster Hope - ECPv6.15.20//NONSGML v1.0//EN
CALSCALE:GREGORIAN
METHOD:PUBLISH
X-WR-CALNAME:Foster Hope
X-ORIGINAL-URL:https://fosterhope.ca
X-WR-CALDESC:Events for Foster Hope
REFRESH-INTERVAL;VALUE=DURATION:PT1H
X-Robots-Tag:noindex
X-PUBLISHED-TTL:PT1H
BEGIN:VTIMEZONE
TZID:America/Vancouver
BEGIN:DAYLIGHT
TZOFFSETFROM:-0800
TZOFFSETTO:-0700
TZNAME:PDT
DTSTART:20210314T100000
END:DAYLIGHT
BEGIN:STANDARD
TZOFFSETFROM:-0700
TZOFFSETTO:-0800
TZNAME:PST
DTSTART:20211107T090000
END:STANDARD
BEGIN:DAYLIGHT
TZOFFSETFROM:-0800
TZOFFSETTO:-0700
TZNAME:PDT
DTSTART:20220313T100000
END:DAYLIGHT
BEGIN:STANDARD
TZOFFSETFROM:-0700
TZOFFSETTO:-0800
TZNAME:PST
DTSTART:20221106T090000
END:STANDARD
BEGIN:DAYLIGHT
TZOFFSETFROM:-0800
TZOFFSETTO:-0700
TZNAME:PDT
DTSTART:20230312T100000
END:DAYLIGHT
BEGIN:STANDARD
TZOFFSETFROM:-0700
TZOFFSETTO:-0800
TZNAME:PST
DTSTART:20231105T090000
END:STANDARD
END:VTIMEZONE
BEGIN:VEVENT
DTSTART;TZID=America/Vancouver:20220803T183000
DTEND;TZID=America/Vancouver:20220803T193000
DTSTAMP:20260421T091211
CREATED:20220623T165819Z
LAST-MODIFIED:20220623T170213Z
UID:1285-1659551400-1659555000@fosterhope.ca
SUMMARY:Virtual Information Session - August 3rd\, 2022
DESCRIPTION:Fostering can be an incredibly rewarding experience. It can also be very challenging and frustrating at times\, and it is important to take the time to consider if it is right for you and your family at this time. \nPeople choose to become foster parents for many reasons\, but all share a love for children and the desire to help those in need without an expectation of receiving something in return.
URL:https://fosterhope.ca/event/virtual-information-session-august-3rd-2022/
END:VEVENT
BEGIN:VEVENT
DTSTART;TZID=America/Vancouver:20220720T183000
DTEND;TZID=America/Vancouver:20220720T193000
DTSTAMP:20260421T091211
CREATED:20220623T170332Z
LAST-MODIFIED:20220623T170332Z
UID:1289-1658341800-1658345400@fosterhope.ca
SUMMARY:Virtual Information Session - July 20th\, 2022
DESCRIPTION:Fostering can be an incredibly rewarding experience. It can also be very challenging and frustrating at times\, and it is important to take the time to consider if it is right for you and your family at this time. \nPeople choose to become foster parents for many reasons\, but all share a love for children and the desire to help those in need without an expectation of receiving something in return.
URL:https://fosterhope.ca/event/virtual-information-session-july-20th-2022/
END:VEVENT
BEGIN:VEVENT
DTSTART;TZID=America/Vancouver:20220713T120000
DTEND;TZID=America/Vancouver:20220713T130000
DTSTAMP:20260421T091211
CREATED:20220616T155242Z
LAST-MODIFIED:20220616T155242Z
UID:1260-1657713600-1657717200@fosterhope.ca
SUMMARY:Virtual Information Session - July 13th\, 2022
DESCRIPTION:Fostering can be an incredibly rewarding experience. It can also be very challenging and frustrating at times\, and it is important to take the time to consider if it is right for you and your family at this time. \nPeople choose to become foster parents for many reasons\, but all share a love for children and the desire to help those in need without an expectation of receiving something in return.
URL:https://fosterhope.ca/event/virtual-information-session-july-13th-2022/
END:VEVENT
BEGIN:VEVENT
DTSTART;TZID=America/Vancouver:20220622T120000
DTEND;TZID=America/Vancouver:20220622T130000
DTSTAMP:20260421T091211
CREATED:20220616T155812Z
LAST-MODIFIED:20220616T155812Z
UID:1265-1655899200-1655902800@fosterhope.ca
SUMMARY:Virtual Information Session - June 22nd\, 2022
DESCRIPTION:Fostering can be an incredibly rewarding experience. It can also be very challenging and frustrating at times\, and it is important to take the time to consider if it is right for you and your family at this time. \nPeople choose to become foster parents for many reasons\, but all share a love for children and the desire to help those in need without an expectation of receiving something in return.
URL:https://fosterhope.ca/event/virtual-information-session-june-22nd-2022/
END:VEVENT
BEGIN:VEVENT
DTSTART;TZID=America/Vancouver:20220608T183000
DTEND;TZID=America/Vancouver:20220608T193000
DTSTAMP:20260421T091211
CREATED:20220428T191045Z
LAST-MODIFIED:20220510T230615Z
UID:1002-1654713000-1654716600@fosterhope.ca
SUMMARY:Virtual Information Session - June 8
DESCRIPTION:https://conta.cc/3s1ehzy
URL:https://fosterhope.ca/event/virtual-information-session-june-8/
END:VEVENT
BEGIN:VEVENT
DTSTART;TZID=America/Vancouver:20220525T120000
DTEND;TZID=America/Vancouver:20220525T130000
DTSTAMP:20260421T091211
CREATED:20220428T191254Z
LAST-MODIFIED:20220510T230557Z
UID:1007-1653480000-1653483600@fosterhope.ca
SUMMARY:Virtual Information Session - May 25
DESCRIPTION:https://conta.cc/3ghit8J
URL:https://fosterhope.ca/event/virtual-information-session-2/
END:VEVENT
BEGIN:VEVENT
DTSTART;TZID=America/Vancouver:20220511T183000
DTEND;TZID=America/Vancouver:20220511T193000
DTSTAMP:20260421T091211
CREATED:20220428T191448Z
LAST-MODIFIED:20220510T230643Z
UID:1010-1652293800-1652297400@fosterhope.ca
SUMMARY:Virtual Information Sessions - May 11
DESCRIPTION:https://conta.cc/3odod84
URL:https://fosterhope.ca/event/virtual-information-sessions-may-11/
END:VEVENT
END:VCALENDAR