BEGIN:VCALENDAR
VERSION:2.0
PRODID:-//Foster Hope - ECPv6.15.20//NONSGML v1.0//EN
CALSCALE:GREGORIAN
METHOD:PUBLISH
X-WR-CALNAME:Foster Hope
X-ORIGINAL-URL:https://fosterhope.ca
X-WR-CALDESC:Events for Foster Hope
REFRESH-INTERVAL;VALUE=DURATION:PT1H
X-Robots-Tag:noindex
X-PUBLISHED-TTL:PT1H
BEGIN:VTIMEZONE
TZID:America/Vancouver
BEGIN:DAYLIGHT
TZOFFSETFROM:-0800
TZOFFSETTO:-0700
TZNAME:PDT
DTSTART:20210314T100000
END:DAYLIGHT
BEGIN:STANDARD
TZOFFSETFROM:-0700
TZOFFSETTO:-0800
TZNAME:PST
DTSTART:20211107T090000
END:STANDARD
BEGIN:DAYLIGHT
TZOFFSETFROM:-0800
TZOFFSETTO:-0700
TZNAME:PDT
DTSTART:20220313T100000
END:DAYLIGHT
BEGIN:STANDARD
TZOFFSETFROM:-0700
TZOFFSETTO:-0800
TZNAME:PST
DTSTART:20221106T090000
END:STANDARD
BEGIN:DAYLIGHT
TZOFFSETFROM:-0800
TZOFFSETTO:-0700
TZNAME:PDT
DTSTART:20230312T100000
END:DAYLIGHT
BEGIN:STANDARD
TZOFFSETFROM:-0700
TZOFFSETTO:-0800
TZNAME:PST
DTSTART:20231105T090000
END:STANDARD
BEGIN:DAYLIGHT
TZOFFSETFROM:-0800
TZOFFSETTO:-0700
TZNAME:PDT
DTSTART:20240310T100000
END:DAYLIGHT
BEGIN:STANDARD
TZOFFSETFROM:-0700
TZOFFSETTO:-0800
TZNAME:PST
DTSTART:20241103T090000
END:STANDARD
END:VTIMEZONE
BEGIN:VEVENT
DTSTART;TZID=America/Vancouver:20231004T183000
DTEND;TZID=America/Vancouver:20231004T193000
DTSTAMP:20260421T154357
CREATED:20230707T170202Z
LAST-MODIFIED:20230707T170202Z
UID:1667-1696444200-1696447800@fosterhope.ca
SUMMARY:Virtual Information Session – October 4th\, 2023
DESCRIPTION:Fostering can be an incredibly rewarding experience. It can also be very challenging and frustrating at times\, and it is important to take the time to consider if it is right for you and your family at this time. \nPeople choose to become foster parents for many reasons\, but all share a love for children and the desire to help those in need without an expectation of receiving something in return.
URL:https://fosterhope.ca/event/virtual-information-session-october-4th-2023/
END:VEVENT
BEGIN:VEVENT
DTSTART;TZID=America/Vancouver:20230920T120000
DTEND;TZID=America/Vancouver:20230920T130000
DTSTAMP:20260421T154357
CREATED:20230707T165820Z
LAST-MODIFIED:20230707T165820Z
UID:1665-1695211200-1695214800@fosterhope.ca
SUMMARY:Virtual Information Session - September 20th\, 2023
DESCRIPTION:Fostering can be an incredibly rewarding experience. It can also be very challenging and frustrating at times\, and it is important to take the time to consider if it is right for you and your family at this time. \nPeople choose to become foster parents for many reasons\, but all share a love for children and the desire to help those in need without an expectation of receiving something in return.
URL:https://fosterhope.ca/event/virtual-information-session-september-20th-2023/
END:VEVENT
BEGIN:VEVENT
DTSTART;TZID=America/Vancouver:20230906T183000
DTEND;TZID=America/Vancouver:20230906T193000
DTSTAMP:20260421T154357
CREATED:20230707T164656Z
LAST-MODIFIED:20230707T164924Z
UID:1663-1694025000-1694028600@fosterhope.ca
SUMMARY:Virtual Information Session - September 6th\, 2023
DESCRIPTION:Fostering can be an incredibly rewarding experience. It can also be very challenging and frustrating at times\, and it is important to take the time to consider if it is right for you and your family at this time. \nPeople choose to become foster parents for many reasons\, but all share a love for children and the desire to help those in need without an expectation of receiving something in return.
URL:https://fosterhope.ca/event/virtual-information-session-september-6th-2023/
END:VEVENT
BEGIN:VEVENT
DTSTART;TZID=America/Vancouver:20230823T120000
DTEND;TZID=America/Vancouver:20230823T130000
DTSTAMP:20260421T154357
CREATED:20230321T162630Z
LAST-MODIFIED:20230321T162630Z
UID:1586-1692792000-1692795600@fosterhope.ca
SUMMARY:Virtual Information Session - August 23rd\, 2023
DESCRIPTION:Fostering can be an incredibly rewarding experience. It can also be very challenging and frustrating at times\, and it is important to take the time to consider if it is right for you and your family at this time. \nPeople choose to become foster parents for many reasons\, but all share a love for children and the desire to help those in need without an expectation of receiving something in return.
URL:https://fosterhope.ca/event/virtual-information-session-august-23rd-2023/
END:VEVENT
BEGIN:VEVENT
DTSTART;TZID=America/Vancouver:20230809T183000
DTEND;TZID=America/Vancouver:20230809T193000
DTSTAMP:20260421T154357
CREATED:20230321T155408Z
LAST-MODIFIED:20230321T155408Z
UID:1584-1691605800-1691609400@fosterhope.ca
SUMMARY:Virtual Information Session - August 9th\, 2023
DESCRIPTION:Fostering can be an incredibly rewarding experience. It can also be very challenging and frustrating at times\, and it is important to take the time to consider if it is right for you and your family at this time. \nPeople choose to become foster parents for many reasons\, but all share a love for children and the desire to help those in need without an expectation of receiving something in return.
URL:https://fosterhope.ca/event/virtual-information-session-august-9th-2023/
END:VEVENT
BEGIN:VEVENT
DTSTART;TZID=America/Vancouver:20230719T120000
DTEND;TZID=America/Vancouver:20230719T130000
DTSTAMP:20260421T154357
CREATED:20230321T153708Z
LAST-MODIFIED:20230321T153708Z
UID:1582-1689768000-1689771600@fosterhope.ca
SUMMARY:Virtual Information Session - July 19th\, 2023
DESCRIPTION:Fostering can be an incredibly rewarding experience. It can also be very challenging and frustrating at times\, and it is important to take the time to consider if it is right for you and your family at this time. \nPeople choose to become foster parents for many reasons\, but all share a love for children and the desire to help those in need without an expectation of receiving something in return.
URL:https://fosterhope.ca/event/virtual-information-session-july-19th-2023/
END:VEVENT
BEGIN:VEVENT
DTSTART;TZID=America/Vancouver:20230705T183000
DTEND;TZID=America/Vancouver:20230705T193000
DTSTAMP:20260421T154357
CREATED:20230321T152842Z
LAST-MODIFIED:20230321T152935Z
UID:1579-1688581800-1688585400@fosterhope.ca
SUMMARY:Virtual Information Session - July 5th\, 2023
DESCRIPTION:Fostering can be an incredibly rewarding experience. It can also be very challenging and frustrating at times\, and it is important to take the time to consider if it is right for you and your family at this time. \nPeople choose to become foster parents for many reasons\, but all share a love for children and the desire to help those in need without an expectation of receiving something in return.
URL:https://fosterhope.ca/event/virtual-information-session-july-5th-2023/
END:VEVENT
BEGIN:VEVENT
DTSTART;TZID=America/Vancouver:20230614T120000
DTEND;TZID=America/Vancouver:20230614T130000
DTSTAMP:20260421T154357
CREATED:20221118T190759Z
LAST-MODIFIED:20221118T190759Z
UID:1508-1686744000-1686747600@fosterhope.ca
SUMMARY:Virtual Information Session - June 14th\, 2023
DESCRIPTION:Fostering can be an incredibly rewarding experience. It can also be very challenging and frustrating at times\, and it is important to take the time to consider if it is right for you and your family at this time. \nPeople choose to become foster parents for many reasons\, but all share a love for children and the desire to help those in need without an expectation of receiving something in return.
URL:https://fosterhope.ca/event/virtual-information-session-june-14th-2023/
END:VEVENT
BEGIN:VEVENT
DTSTART;TZID=America/Vancouver:20230607T183000
DTEND;TZID=America/Vancouver:20230607T193000
DTSTAMP:20260421T154357
CREATED:20221118T190634Z
LAST-MODIFIED:20221118T190634Z
UID:1506-1686162600-1686166200@fosterhope.ca
SUMMARY:Virtual Information Session - June 7th\, 2023
DESCRIPTION:Fostering can be an incredibly rewarding experience. It can also be very challenging and frustrating at times\, and it is important to take the time to consider if it is right for you and your family at this time. \nPeople choose to become foster parents for many reasons\, but all share a love for children and the desire to help those in need without an expectation of receiving something in return.
URL:https://fosterhope.ca/event/virtual-information-session-june-7th-2023/
END:VEVENT
BEGIN:VEVENT
DTSTART;TZID=America/Vancouver:20230524T120000
DTEND;TZID=America/Vancouver:20230524T130000
DTSTAMP:20260421T154357
CREATED:20221118T190143Z
LAST-MODIFIED:20221118T190143Z
UID:1504-1684929600-1684933200@fosterhope.ca
SUMMARY:Virtual Information Session - May 24th\, 2023
DESCRIPTION:Fostering can be an incredibly rewarding experience. It can also be very challenging and frustrating at times\, and it is important to take the time to consider if it is right for you and your family at this time. \nPeople choose to become foster parents for many reasons\, but all share a love for children and the desire to help those in need without an expectation of receiving something in return.
URL:https://fosterhope.ca/event/virtual-information-session-may-24th-2023/
END:VEVENT
BEGIN:VEVENT
DTSTART;TZID=America/Vancouver:20230503T183000
DTEND;TZID=America/Vancouver:20230503T193000
DTSTAMP:20260421T154357
CREATED:20221118T190047Z
LAST-MODIFIED:20221118T190047Z
UID:1502-1683138600-1683142200@fosterhope.ca
SUMMARY:Virtual Information Session - May 3rd\, 2023
DESCRIPTION:Fostering can be an incredibly rewarding experience. It can also be very challenging and frustrating at times\, and it is important to take the time to consider if it is right for you and your family at this time. \nPeople choose to become foster parents for many reasons\, but all share a love for children and the desire to help those in need without an expectation of receiving something in return.
URL:https://fosterhope.ca/event/virtual-information-session-may-3rd-2023/
END:VEVENT
BEGIN:VEVENT
DTSTART;TZID=America/Vancouver:20230419T120000
DTEND;TZID=America/Vancouver:20230419T130000
DTSTAMP:20260421T154357
CREATED:20221118T185835Z
LAST-MODIFIED:20221118T185835Z
UID:1500-1681905600-1681909200@fosterhope.ca
SUMMARY:Virtual Information Session - April 19th\, 2023
DESCRIPTION:Fostering can be an incredibly rewarding experience. It can also be very challenging and frustrating at times\, and it is important to take the time to consider if it is right for you and your family at this time. \nPeople choose to become foster parents for many reasons\, but all share a love for children and the desire to help those in need without an expectation of receiving something in return.
URL:https://fosterhope.ca/event/virtual-information-session-april-19th-2023/
END:VEVENT
BEGIN:VEVENT
DTSTART;TZID=America/Vancouver:20230405T183000
DTEND;TZID=America/Vancouver:20230405T193000
DTSTAMP:20260421T154357
CREATED:20221118T185349Z
LAST-MODIFIED:20221118T185349Z
UID:1498-1680719400-1680723000@fosterhope.ca
SUMMARY:Virtual Information Session - April 5th\, 2023
DESCRIPTION:Fostering can be an incredibly rewarding experience. It can also be very challenging and frustrating at times\, and it is important to take the time to consider if it is right for you and your family at this time. \nPeople choose to become foster parents for many reasons\, but all share a love for children and the desire to help those in need without an expectation of receiving something in return.
URL:https://fosterhope.ca/event/virtual-information-session-april-5th-2023/
END:VEVENT
BEGIN:VEVENT
DTSTART;TZID=America/Vancouver:20230322T120000
DTEND;TZID=America/Vancouver:20230322T130000
DTSTAMP:20260421T154357
CREATED:20221117T224756Z
LAST-MODIFIED:20221117T224756Z
UID:1493-1679486400-1679490000@fosterhope.ca
SUMMARY:Virtual Information Session - March 22nd\, 2023
DESCRIPTION:Fostering can be an incredibly rewarding experience. It can also be very challenging and frustrating at times\, and it is important to take the time to consider if it is right for you and your family at this time. \nPeople choose to become foster parents for many reasons\, but all share a love for children and the desire to help those in need without an expectation of receiving something in return.
URL:https://fosterhope.ca/event/virtual-information-session-march-22nd-2023/
END:VEVENT
BEGIN:VEVENT
DTSTART;TZID=America/Vancouver:20230308T183000
DTEND;TZID=America/Vancouver:20230308T193000
DTSTAMP:20260421T154357
CREATED:20221117T224659Z
LAST-MODIFIED:20221117T224659Z
UID:1491-1678300200-1678303800@fosterhope.ca
SUMMARY:Virtual Information Session - March 8th\, 2023
DESCRIPTION:Fostering can be an incredibly rewarding experience. It can also be very challenging and frustrating at times\, and it is important to take the time to consider if it is right for you and your family at this time. \nPeople choose to become foster parents for many reasons\, but all share a love for children and the desire to help those in need without an expectation of receiving something in return.
URL:https://fosterhope.ca/event/virtual-information-session-march-8th-2023/
END:VEVENT
BEGIN:VEVENT
DTSTART;TZID=America/Vancouver:20230222T120000
DTEND;TZID=America/Vancouver:20230222T130000
DTSTAMP:20260421T154357
CREATED:20221117T224556Z
LAST-MODIFIED:20221117T224556Z
UID:1489-1677067200-1677070800@fosterhope.ca
SUMMARY:Virtual Information Session - February 22nd\, 2023
DESCRIPTION:Fostering can be an incredibly rewarding experience. It can also be very challenging and frustrating at times\, and it is important to take the time to consider if it is right for you and your family at this time. \nPeople choose to become foster parents for many reasons\, but all share a love for children and the desire to help those in need without an expectation of receiving something in return.
URL:https://fosterhope.ca/event/virtual-information-session-february-22nd-2023/
END:VEVENT
BEGIN:VEVENT
DTSTART;TZID=America/Vancouver:20230208T183000
DTEND;TZID=America/Vancouver:20230208T193000
DTSTAMP:20260421T154357
CREATED:20221117T224241Z
LAST-MODIFIED:20221117T224241Z
UID:1486-1675881000-1675884600@fosterhope.ca
SUMMARY:Virtual Information Session - February 8th\, 2023
DESCRIPTION:Fostering can be an incredibly rewarding experience. It can also be very challenging and frustrating at times\, and it is important to take the time to consider if it is right for you and your family at this time. \nPeople choose to become foster parents for many reasons\, but all share a love for children and the desire to help those in need without an expectation of receiving something in return.
URL:https://fosterhope.ca/event/virtual-information-session-february-8th-2023/
END:VEVENT
BEGIN:VEVENT
DTSTART;TZID=America/Vancouver:20230125T120000
DTEND;TZID=America/Vancouver:20230125T130000
DTSTAMP:20260421T154357
CREATED:20221117T224130Z
LAST-MODIFIED:20221117T224306Z
UID:1484-1674648000-1674651600@fosterhope.ca
SUMMARY:Virtual Information Session - January 25th\, 2023
DESCRIPTION:Fostering can be an incredibly rewarding experience. It can also be very challenging and frustrating at times\, and it is important to take the time to consider if it is right for you and your family at this time. \nPeople choose to become foster parents for many reasons\, but all share a love for children and the desire to help those in need without an expectation of receiving something in return.
URL:https://fosterhope.ca/event/virtual-information-session-january-25th-2022/
END:VEVENT
BEGIN:VEVENT
DTSTART;TZID=America/Vancouver:20230111T183000
DTEND;TZID=America/Vancouver:20230111T193000
DTSTAMP:20260421T154357
CREATED:20221117T223907Z
LAST-MODIFIED:20221117T223907Z
UID:1482-1673461800-1673465400@fosterhope.ca
SUMMARY:Virtual Information Session - January 11th\, 2023
DESCRIPTION:Fostering can be an incredibly rewarding experience. It can also be very challenging and frustrating at times\, and it is important to take the time to consider if it is right for you and your family at this time. \nPeople choose to become foster parents for many reasons\, but all share a love for children and the desire to help those in need without an expectation of receiving something in return.
URL:https://fosterhope.ca/event/virtual-information-session-january-11th-2023/
END:VEVENT
BEGIN:VEVENT
DTSTART;TZID=America/Vancouver:20221214T120000
DTEND;TZID=America/Vancouver:20221214T130000
DTSTAMP:20260421T154357
CREATED:20220727T215958Z
LAST-MODIFIED:20220727T215958Z
UID:1408-1671019200-1671022800@fosterhope.ca
SUMMARY:Virtual Information Session - December 14th\, 2022
DESCRIPTION:Fostering can be an incredibly rewarding experience. It can also be very challenging and frustrating at times\, and it is important to take the time to consider if it is right for you and your family at this time. \nPeople choose to become foster parents for many reasons\, but all share a love for children and the desire to help those in need without an expectation of receiving something in return.
URL:https://fosterhope.ca/event/virtual-information-session-december-14th-2022/
END:VEVENT
BEGIN:VEVENT
DTSTART;TZID=America/Vancouver:20221207T183000
DTEND;TZID=America/Vancouver:20221207T193000
DTSTAMP:20260421T154357
CREATED:20220727T215754Z
LAST-MODIFIED:20220727T215754Z
UID:1406-1670437800-1670441400@fosterhope.ca
SUMMARY:Virtual Information Session - December 7th\, 2022
DESCRIPTION:Fostering can be an incredibly rewarding experience. It can also be very challenging and frustrating at times\, and it is important to take the time to consider if it is right for you and your family at this time. \nPeople choose to become foster parents for many reasons\, but all share a love for children and the desire to help those in need without an expectation of receiving something in return.
URL:https://fosterhope.ca/event/virtual-information-session-december-7th-2022/
END:VEVENT
BEGIN:VEVENT
DTSTART;TZID=America/Vancouver:20221123T120000
DTEND;TZID=America/Vancouver:20221123T130000
DTSTAMP:20260421T154357
CREATED:20220727T215621Z
LAST-MODIFIED:20220727T215621Z
UID:1404-1669204800-1669208400@fosterhope.ca
SUMMARY:Virtual Information Session - November 23rd\, 2022
DESCRIPTION:Fostering can be an incredibly rewarding experience. It can also be very challenging and frustrating at times\, and it is important to take the time to consider if it is right for you and your family at this time. \nPeople choose to become foster parents for many reasons\, but all share a love for children and the desire to help those in need without an expectation of receiving something in return.
URL:https://fosterhope.ca/event/virtual-information-session-november-23rd-2022/
END:VEVENT
BEGIN:VEVENT
DTSTART;TZID=America/Vancouver:20221109T183000
DTEND;TZID=America/Vancouver:20221109T193000
DTSTAMP:20260421T154357
CREATED:20220727T215256Z
LAST-MODIFIED:20220727T215256Z
UID:1402-1668018600-1668022200@fosterhope.ca
SUMMARY:Virtual Information Session - November 9th\, 2022
DESCRIPTION:Fostering can be an incredibly rewarding experience. It can also be very challenging and frustrating at times\, and it is important to take the time to consider if it is right for you and your family at this time. \nPeople choose to become foster parents for many reasons\, but all share a love for children and the desire to help those in need without an expectation of receiving something in return.
URL:https://fosterhope.ca/event/virtual-information-session-november-9th-2022/
END:VEVENT
BEGIN:VEVENT
DTSTART;TZID=America/Vancouver:20221026T120000
DTEND;TZID=America/Vancouver:20221026T130000
DTSTAMP:20260421T154357
CREATED:20220727T214437Z
LAST-MODIFIED:20220727T214437Z
UID:1400-1666785600-1666789200@fosterhope.ca
SUMMARY:Virtual Information Session - October 26th\, 2022
DESCRIPTION:Fostering can be an incredibly rewarding experience. It can also be very challenging and frustrating at times\, and it is important to take the time to consider if it is right for you and your family at this time. \nPeople choose to become foster parents for many reasons\, but all share a love for children and the desire to help those in need without an expectation of receiving something in return.
URL:https://fosterhope.ca/event/virtual-information-session-october-26th-2022/
END:VEVENT
BEGIN:VEVENT
DTSTART;TZID=America/Vancouver:20221012T183000
DTEND;TZID=America/Vancouver:20221012T193000
DTSTAMP:20260421T154357
CREATED:20220727T213838Z
LAST-MODIFIED:20220727T213838Z
UID:1397-1665599400-1665603000@fosterhope.ca
SUMMARY:Virtual Information Session - October 12th\, 2022
DESCRIPTION:Fostering can be an incredibly rewarding experience. It can also be very challenging and frustrating at times\, and it is important to take the time to consider if it is right for you and your family at this time. \nPeople choose to become foster parents for many reasons\, but all share a love for children and the desire to help those in need without an expectation of receiving something in return.
URL:https://fosterhope.ca/event/virtual-information-session-october-12th-2022/
END:VEVENT
BEGIN:VEVENT
DTSTART;TZID=America/Vancouver:20220928T120000
DTEND;TZID=America/Vancouver:20220928T130000
DTSTAMP:20260421T154357
CREATED:20220727T213524Z
LAST-MODIFIED:20220727T213711Z
UID:1394-1664366400-1664370000@fosterhope.ca
SUMMARY:Virtual Information Session - September 28th\, 2022
DESCRIPTION:Fostering can be an incredibly rewarding experience. It can also be very challenging and frustrating at times\, and it is important to take the time to consider if it is right for you and your family at this time. \nPeople choose to become foster parents for many reasons\, but all share a love for children and the desire to help those in need without an expectation of receiving something in return.
URL:https://fosterhope.ca/event/virtual-information-session-september-28th-2022/
END:VEVENT
BEGIN:VEVENT
DTSTART;TZID=America/Vancouver:20220914T183000
DTEND;TZID=America/Vancouver:20220914T193000
DTSTAMP:20260421T154357
CREATED:20220727T213050Z
LAST-MODIFIED:20220727T213050Z
UID:1392-1663180200-1663183800@fosterhope.ca
SUMMARY:Virtual Information Session - September 14th\, 2022
DESCRIPTION:Fostering can be an incredibly rewarding experience. It can also be very challenging and frustrating at times\, and it is important to take the time to consider if it is right for you and your family at this time. \nPeople choose to become foster parents for many reasons\, but all share a love for children and the desire to help those in need without an expectation of receiving something in return.
URL:https://fosterhope.ca/event/virtual-information-session-september-14th-2022/
END:VEVENT
BEGIN:VEVENT
DTSTART;TZID=America/Vancouver:20220817T120000
DTEND;TZID=America/Vancouver:20220817T130000
DTSTAMP:20260421T154357
CREATED:20220616T155409Z
LAST-MODIFIED:20220616T155409Z
UID:1263-1660737600-1660741200@fosterhope.ca
SUMMARY:Virtual Information Session - August 17th\, 2022
DESCRIPTION:Fostering can be an incredibly rewarding experience. It can also be very challenging and frustrating at times\, and it is important to take the time to consider if it is right for you and your family at this time. \nPeople choose to become foster parents for many reasons\, but all share a love for children and the desire to help those in need without an expectation of receiving something in return.
URL:https://fosterhope.ca/event/virtual-information-session-august-17th-2022/
END:VEVENT
BEGIN:VEVENT
DTSTART;TZID=America/Vancouver:20220803T183000
DTEND;TZID=America/Vancouver:20220803T193000
DTSTAMP:20260421T154357
CREATED:20220623T165819Z
LAST-MODIFIED:20220623T170213Z
UID:1285-1659551400-1659555000@fosterhope.ca
SUMMARY:Virtual Information Session - August 3rd\, 2022
DESCRIPTION:Fostering can be an incredibly rewarding experience. It can also be very challenging and frustrating at times\, and it is important to take the time to consider if it is right for you and your family at this time. \nPeople choose to become foster parents for many reasons\, but all share a love for children and the desire to help those in need without an expectation of receiving something in return.
URL:https://fosterhope.ca/event/virtual-information-session-august-3rd-2022/
END:VEVENT
BEGIN:VEVENT
DTSTART;TZID=America/Vancouver:20220720T183000
DTEND;TZID=America/Vancouver:20220720T193000
DTSTAMP:20260421T154357
CREATED:20220623T170332Z
LAST-MODIFIED:20220623T170332Z
UID:1289-1658341800-1658345400@fosterhope.ca
SUMMARY:Virtual Information Session - July 20th\, 2022
DESCRIPTION:Fostering can be an incredibly rewarding experience. It can also be very challenging and frustrating at times\, and it is important to take the time to consider if it is right for you and your family at this time. \nPeople choose to become foster parents for many reasons\, but all share a love for children and the desire to help those in need without an expectation of receiving something in return.
URL:https://fosterhope.ca/event/virtual-information-session-july-20th-2022/
END:VEVENT
END:VCALENDAR