BEGIN:VCALENDAR
VERSION:2.0
PRODID:-//Foster Hope - ECPv6.15.20//NONSGML v1.0//EN
CALSCALE:GREGORIAN
METHOD:PUBLISH
X-WR-CALNAME:Foster Hope
X-ORIGINAL-URL:https://fosterhope.ca
X-WR-CALDESC:Events for Foster Hope
REFRESH-INTERVAL;VALUE=DURATION:PT1H
X-Robots-Tag:noindex
X-PUBLISHED-TTL:PT1H
BEGIN:VTIMEZONE
TZID:America/Vancouver
BEGIN:DAYLIGHT
TZOFFSETFROM:-0800
TZOFFSETTO:-0700
TZNAME:PDT
DTSTART:20230312T100000
END:DAYLIGHT
BEGIN:STANDARD
TZOFFSETFROM:-0700
TZOFFSETTO:-0800
TZNAME:PST
DTSTART:20231105T090000
END:STANDARD
BEGIN:DAYLIGHT
TZOFFSETFROM:-0800
TZOFFSETTO:-0700
TZNAME:PDT
DTSTART:20240310T100000
END:DAYLIGHT
BEGIN:STANDARD
TZOFFSETFROM:-0700
TZOFFSETTO:-0800
TZNAME:PST
DTSTART:20241103T090000
END:STANDARD
BEGIN:DAYLIGHT
TZOFFSETFROM:-0800
TZOFFSETTO:-0700
TZNAME:PDT
DTSTART:20250309T100000
END:DAYLIGHT
BEGIN:STANDARD
TZOFFSETFROM:-0700
TZOFFSETTO:-0800
TZNAME:PST
DTSTART:20251102T090000
END:STANDARD
BEGIN:DAYLIGHT
TZOFFSETFROM:-0800
TZOFFSETTO:-0700
TZNAME:PDT
DTSTART:20260308T100000
END:DAYLIGHT
BEGIN:STANDARD
TZOFFSETFROM:-0700
TZOFFSETTO:-0800
TZNAME:PST
DTSTART:20261101T090000
END:STANDARD
END:VTIMEZONE
BEGIN:VEVENT
DTSTART;TZID=America/Vancouver:20250723T120000
DTEND;TZID=America/Vancouver:20250723T130000
DTSTAMP:20260420T213242
CREATED:20250429T173353Z
LAST-MODIFIED:20250429T173427Z
UID:2265-1753272000-1753275600@fosterhope.ca
SUMMARY:Virtual Information Session – July 23 2025
DESCRIPTION:Fostering can be an incredibly rewarding experience. It can also be very challenging and frustrating at times\, and it is important to take the time to consider if it is right for you and your family at this time. \nPeople choose to become foster parents for many reasons\, but all share a love for children and the desire to help those in need without an expectation of receiving something in return.
URL:https://fosterhope.ca/event/virtual-information-session-july-23-2025/
END:VEVENT
BEGIN:VEVENT
DTSTART;TZID=America/Vancouver:20250709T183000
DTEND;TZID=America/Vancouver:20250709T193000
DTSTAMP:20260420T213242
CREATED:20250429T173130Z
LAST-MODIFIED:20250429T173130Z
UID:2263-1752085800-1752089400@fosterhope.ca
SUMMARY:Virtual Information Session - July 9\, 2025
DESCRIPTION:Fostering can be an incredibly rewarding experience. It can also be very challenging and frustrating at times\, and it is important to take the time to consider if it is right for you and your family at this time. \nPeople choose to become foster parents for many reasons\, but all share a love for children and the desire to help those in need without an expectation of receiving something in return.
URL:https://fosterhope.ca/event/virtual-information-session-july-9-2025/
END:VEVENT
BEGIN:VEVENT
DTSTART;TZID=America/Vancouver:20250618T120000
DTEND;TZID=America/Vancouver:20250618T130000
DTSTAMP:20260420T213242
CREATED:20241118T220029Z
LAST-MODIFIED:20241118T220029Z
UID:2157-1750248000-1750251600@fosterhope.ca
SUMMARY:Virtual Information Session – June 18th\, 2024
DESCRIPTION:Fostering can be an incredibly rewarding experience. It can also be very challenging and frustrating at times\, and it is important to take the time to consider if it is right for you and your family at this time. \nPeople choose to become foster parents for many reasons\, but all share a love for children and the desire to help those in need without an expectation of receiving something in return.
URL:https://fosterhope.ca/event/virtual-information-session-june-18th-2024/
END:VEVENT
BEGIN:VEVENT
DTSTART;TZID=America/Vancouver:20250604T183000
DTEND;TZID=America/Vancouver:20250604T193000
DTSTAMP:20260420T213242
CREATED:20241118T215918Z
LAST-MODIFIED:20241118T215918Z
UID:2155-1749061800-1749065400@fosterhope.ca
SUMMARY:Virtual Information Session – June 4th\, 2024
DESCRIPTION:Fostering can be an incredibly rewarding experience. It can also be very challenging and frustrating at times\, and it is important to take the time to consider if it is right for you and your family at this time. \nPeople choose to become foster parents for many reasons\, but all share a love for children and the desire to help those in need without an expectation of receiving something in return.
URL:https://fosterhope.ca/event/virtual-information-session-june-4th-2024/
END:VEVENT
BEGIN:VEVENT
DTSTART;TZID=America/Vancouver:20250521T120000
DTEND;TZID=America/Vancouver:20250521T130000
DTSTAMP:20260420T213242
CREATED:20241118T215805Z
LAST-MODIFIED:20241118T215805Z
UID:2153-1747828800-1747832400@fosterhope.ca
SUMMARY:Virtual Information Session – May 21st\, 2024
DESCRIPTION:Fostering can be an incredibly rewarding experience. It can also be very challenging and frustrating at times\, and it is important to take the time to consider if it is right for you and your family at this time. \nPeople choose to become foster parents for many reasons\, but all share a love for children and the desire to help those in need without an expectation of receiving something in return.
URL:https://fosterhope.ca/event/virtual-information-session-may-21st-2024/
END:VEVENT
BEGIN:VEVENT
DTSTART;TZID=America/Vancouver:20250507T183000
DTEND;TZID=America/Vancouver:20250507T193000
DTSTAMP:20260420T213242
CREATED:20241118T215635Z
LAST-MODIFIED:20241118T215635Z
UID:2151-1746642600-1746646200@fosterhope.ca
SUMMARY:Virtual Information Session – May 7th\, 2024
DESCRIPTION:Fostering can be an incredibly rewarding experience. It can also be very challenging and frustrating at times\, and it is important to take the time to consider if it is right for you and your family at this time. \nPeople choose to become foster parents for many reasons\, but all share a love for children and the desire to help those in need without an expectation of receiving something in return.
URL:https://fosterhope.ca/event/virtual-information-session-may-7th-2024/
END:VEVENT
BEGIN:VEVENT
DTSTART;TZID=America/Vancouver:20250416T120000
DTEND;TZID=America/Vancouver:20250416T130000
DTSTAMP:20260420T213242
CREATED:20241118T215243Z
LAST-MODIFIED:20241118T215243Z
UID:2149-1744804800-1744808400@fosterhope.ca
SUMMARY:Virtual Information Session – April 16th\, 2024
DESCRIPTION:Fostering can be an incredibly rewarding experience. It can also be very challenging and frustrating at times\, and it is important to take the time to consider if it is right for you and your family at this time. \nPeople choose to become foster parents for many reasons\, but all share a love for children and the desire to help those in need without an expectation of receiving something in return.
URL:https://fosterhope.ca/event/virtual-information-session-april-16th-2024/
END:VEVENT
BEGIN:VEVENT
DTSTART;TZID=America/Vancouver:20250402T183000
DTEND;TZID=America/Vancouver:20250402T193000
DTSTAMP:20260420T213242
CREATED:20241118T215114Z
LAST-MODIFIED:20241118T215114Z
UID:2147-1743618600-1743622200@fosterhope.ca
SUMMARY:Virtual Information Session – April 2nd\, 2024
DESCRIPTION:Fostering can be an incredibly rewarding experience. It can also be very challenging and frustrating at times\, and it is important to take the time to consider if it is right for you and your family at this time. \nPeople choose to become foster parents for many reasons\, but all share a love for children and the desire to help those in need without an expectation of receiving something in return.
URL:https://fosterhope.ca/event/virtual-information-session-april-2nd-2024/
END:VEVENT
BEGIN:VEVENT
DTSTART;TZID=America/Vancouver:20250319T120000
DTEND;TZID=America/Vancouver:20250319T130000
DTSTAMP:20260420T213242
CREATED:20241118T214929Z
LAST-MODIFIED:20241118T214929Z
UID:2145-1742385600-1742389200@fosterhope.ca
SUMMARY:Virtual Information Session – March 19th\, 2024
DESCRIPTION:Fostering can be an incredibly rewarding experience. It can also be very challenging and frustrating at times\, and it is important to take the time to consider if it is right for you and your family at this time. \nPeople choose to become foster parents for many reasons\, but all share a love for children and the desire to help those in need without an expectation of receiving something in return.
URL:https://fosterhope.ca/event/virtual-information-session-march-19th-2024/
END:VEVENT
BEGIN:VEVENT
DTSTART;TZID=America/Vancouver:20250305T183000
DTEND;TZID=America/Vancouver:20250305T193000
DTSTAMP:20260420T213242
CREATED:20241118T214813Z
LAST-MODIFIED:20241118T214813Z
UID:2143-1741199400-1741203000@fosterhope.ca
SUMMARY:Virtual Information Session – March 5\, 2024
DESCRIPTION:Fostering can be an incredibly rewarding experience. It can also be very challenging and frustrating at times\, and it is important to take the time to consider if it is right for you and your family at this time. \nPeople choose to become foster parents for many reasons\, but all share a love for children and the desire to help those in need without an expectation of receiving something in return.
URL:https://fosterhope.ca/event/virtual-information-session-march-5-2024/
END:VEVENT
BEGIN:VEVENT
DTSTART;TZID=America/Vancouver:20250219T120000
DTEND;TZID=America/Vancouver:20250219T130000
DTSTAMP:20260420T213242
CREATED:20241118T214650Z
LAST-MODIFIED:20241118T214650Z
UID:2141-1739966400-1739970000@fosterhope.ca
SUMMARY:Virtual Information Session – February 19th\, 2024
DESCRIPTION:Fostering can be an incredibly rewarding experience. It can also be very challenging and frustrating at times\, and it is important to take the time to consider if it is right for you and your family at this time. \nPeople choose to become foster parents for many reasons\, but all share a love for children and the desire to help those in need without an expectation of receiving something in return.
URL:https://fosterhope.ca/event/virtual-information-session-february-19th-2024/
END:VEVENT
BEGIN:VEVENT
DTSTART;TZID=America/Vancouver:20250205T183000
DTEND;TZID=America/Vancouver:20250205T193000
DTSTAMP:20260420T213242
CREATED:20241118T214512Z
LAST-MODIFIED:20241118T214512Z
UID:2139-1738780200-1738783800@fosterhope.ca
SUMMARY:Virtual Information Session – February 5th\, 2024
DESCRIPTION:Fostering can be an incredibly rewarding experience. It can also be very challenging and frustrating at times\, and it is important to take the time to consider if it is right for you and your family at this time. \nPeople choose to become foster parents for many reasons\, but all share a love for children and the desire to help those in need without an expectation of receiving something in return.
URL:https://fosterhope.ca/event/virtual-information-session-february-5th-2024/
END:VEVENT
BEGIN:VEVENT
DTSTART;TZID=America/Vancouver:20250122T120000
DTEND;TZID=America/Vancouver:20250122T130000
DTSTAMP:20260420T213242
CREATED:20241118T214204Z
LAST-MODIFIED:20241118T214204Z
UID:2137-1737547200-1737550800@fosterhope.ca
SUMMARY:Virtual Information Session – January 22nd\, 2024
DESCRIPTION:Fostering can be an incredibly rewarding experience. It can also be very challenging and frustrating at times\, and it is important to take the time to consider if it is right for you and your family at this time. \nPeople choose to become foster parents for many reasons\, but all share a love for children and the desire to help those in need without an expectation of receiving something in return.
URL:https://fosterhope.ca/event/virtual-information-session-january-22nd-2024/
END:VEVENT
BEGIN:VEVENT
DTSTART;TZID=America/Vancouver:20250108T183000
DTEND;TZID=America/Vancouver:20250108T193000
DTSTAMP:20260420T213242
CREATED:20241118T213515Z
LAST-MODIFIED:20241118T213515Z
UID:2135-1736361000-1736364600@fosterhope.ca
SUMMARY:Virtual Information Session – January 8th\, 2024
DESCRIPTION:Fostering can be an incredibly rewarding experience. It can also be very challenging and frustrating at times\, and it is important to take the time to consider if it is right for you and your family at this time. \nPeople choose to become foster parents for many reasons\, but all share a love for children and the desire to help those in need without an expectation of receiving something in return.
URL:https://fosterhope.ca/event/virtual-information-session-january-8th-2024/
END:VEVENT
BEGIN:VEVENT
DTSTART;TZID=America/Vancouver:20241211T120000
DTEND;TZID=America/Vancouver:20241211T130000
DTSTAMP:20260420T213242
CREATED:20240729T181546Z
LAST-MODIFIED:20240729T181546Z
UID:2054-1733918400-1733922000@fosterhope.ca
SUMMARY:Virtual Information Session – December 11th\, 2024
DESCRIPTION:Fostering can be an incredibly rewarding experience. It can also be very challenging and frustrating at times\, and it is important to take the time to consider if it is right for you and your family at this time. \nPeople choose to become foster parents for many reasons\, but all share a love for children and the desire to help those in need without an expectation of receiving something in return.
URL:https://fosterhope.ca/event/virtual-information-session-december-11th-2024/
END:VEVENT
BEGIN:VEVENT
DTSTART;TZID=America/Vancouver:20241204T183000
DTEND;TZID=America/Vancouver:20241204T193000
DTSTAMP:20260420T213242
CREATED:20240729T181440Z
LAST-MODIFIED:20240729T181440Z
UID:2052-1733337000-1733340600@fosterhope.ca
SUMMARY:Virtual Information Session – December 4th\, 2024
DESCRIPTION:Fostering can be an incredibly rewarding experience. It can also be very challenging and frustrating at times\, and it is important to take the time to consider if it is right for you and your family at this time. \nPeople choose to become foster parents for many reasons\, but all share a love for children and the desire to help those in need without an expectation of receiving something in return.
URL:https://fosterhope.ca/event/virtual-information-session-december-4th-2024/
END:VEVENT
BEGIN:VEVENT
DTSTART;TZID=America/Vancouver:20241120T120000
DTEND;TZID=America/Vancouver:20241120T130000
DTSTAMP:20260420T213242
CREATED:20240729T181325Z
LAST-MODIFIED:20240729T181325Z
UID:2050-1732104000-1732107600@fosterhope.ca
SUMMARY:Virtual Information Session – November 20th\, 2024
DESCRIPTION:Fostering can be an incredibly rewarding experience. It can also be very challenging and frustrating at times\, and it is important to take the time to consider if it is right for you and your family at this time. \nPeople choose to become foster parents for many reasons\, but all share a love for children and the desire to help those in need without an expectation of receiving something in return.
URL:https://fosterhope.ca/event/virtual-information-session-november-20th-2024/
END:VEVENT
BEGIN:VEVENT
DTSTART;TZID=America/Vancouver:20241106T183000
DTEND;TZID=America/Vancouver:20241106T193000
DTSTAMP:20260420T213242
CREATED:20240729T181222Z
LAST-MODIFIED:20240729T181222Z
UID:2048-1730917800-1730921400@fosterhope.ca
SUMMARY:Virtual Information Session – November 6th\, 2024
DESCRIPTION:Fostering can be an incredibly rewarding experience. It can also be very challenging and frustrating at times\, and it is important to take the time to consider if it is right for you and your family at this time. \nPeople choose to become foster parents for many reasons\, but all share a love for children and the desire to help those in need without an expectation of receiving something in return.
URL:https://fosterhope.ca/event/virtual-information-session-november-6th-2024/
END:VEVENT
BEGIN:VEVENT
DTSTART;TZID=America/Vancouver:20241023T120000
DTEND;TZID=America/Vancouver:20241023T130000
DTSTAMP:20260420T213242
CREATED:20240729T181038Z
LAST-MODIFIED:20240729T181038Z
UID:2046-1729684800-1729688400@fosterhope.ca
SUMMARY:Virtual Information Session – October 23rd\, 2024
DESCRIPTION:Fostering can be an incredibly rewarding experience. It can also be very challenging and frustrating at times\, and it is important to take the time to consider if it is right for you and your family at this time. \nPeople choose to become foster parents for many reasons\, but all share a love for children and the desire to help those in need without an expectation of receiving something in return.
URL:https://fosterhope.ca/event/virtual-information-session-october-23rd-2024/
END:VEVENT
BEGIN:VEVENT
DTSTART;TZID=America/Vancouver:20241009T183000
DTEND;TZID=America/Vancouver:20241009T193000
DTSTAMP:20260420T213242
CREATED:20240729T180859Z
LAST-MODIFIED:20240806T201804Z
UID:2044-1728498600-1728502200@fosterhope.ca
SUMMARY:Virtual Information Session – October 9\, 2024
DESCRIPTION:Fostering can be an incredibly rewarding experience. It can also be very challenging and frustrating at times\, and it is important to take the time to consider if it is right for you and your family at this time. \nPeople choose to become foster parents for many reasons\, but all share a love for children and the desire to help those in need without an expectation of receiving something in return.
URL:https://fosterhope.ca/event/virtual-information-session-august-28th-2024-2/
END:VEVENT
BEGIN:VEVENT
DTSTART;TZID=America/Vancouver:20240925T120000
DTEND;TZID=America/Vancouver:20240925T130000
DTSTAMP:20260420T213242
CREATED:20240729T175036Z
LAST-MODIFIED:20240729T175036Z
UID:2042-1727265600-1727269200@fosterhope.ca
SUMMARY:Virtual Information Session – September 25th\, 2024
DESCRIPTION:Fostering can be an incredibly rewarding experience. It can also be very challenging and frustrating at times\, and it is important to take the time to consider if it is right for you and your family at this time. \nPeople choose to become foster parents for many reasons\, but all share a love for children and the desire to help those in need without an expectation of receiving something in return.
URL:https://fosterhope.ca/event/virtual-information-session-september-25th-2024/
END:VEVENT
BEGIN:VEVENT
DTSTART;TZID=America/Vancouver:20240911T183000
DTEND;TZID=America/Vancouver:20240911T193000
DTSTAMP:20260420T213242
CREATED:20240729T174533Z
LAST-MODIFIED:20240729T174533Z
UID:2040-1726079400-1726083000@fosterhope.ca
SUMMARY:Virtual Information Session – September 11th\, 2024
DESCRIPTION:Fostering can be an incredibly rewarding experience. It can also be very challenging and frustrating at times\, and it is important to take the time to consider if it is right for you and your family at this time. \nPeople choose to become foster parents for many reasons\, but all share a love for children and the desire to help those in need without an expectation of receiving something in return.
URL:https://fosterhope.ca/event/virtual-information-session-september-11th-2024/
END:VEVENT
BEGIN:VEVENT
DTSTART;TZID=America/Vancouver:20240828T120000
DTEND;TZID=America/Vancouver:20240828T130000
DTSTAMP:20260420T213242
CREATED:20240523T215608Z
LAST-MODIFIED:20240523T215608Z
UID:1991-1724846400-1724850000@fosterhope.ca
SUMMARY:Virtual Information Session – August 28th\, 2024
DESCRIPTION:Fostering can be an incredibly rewarding experience. It can also be very challenging and frustrating at times\, and it is important to take the time to consider if it is right for you and your family at this time. \nPeople choose to become foster parents for many reasons\, but all share a love for children and the desire to help those in need without an expectation of receiving something in return.
URL:https://fosterhope.ca/event/virtual-information-session-august-28th-2024/
END:VEVENT
BEGIN:VEVENT
DTSTART;TZID=America/Vancouver:20240814T183000
DTEND;TZID=America/Vancouver:20240814T193000
DTSTAMP:20260420T213242
CREATED:20240523T215447Z
LAST-MODIFIED:20240523T215447Z
UID:1989-1723660200-1723663800@fosterhope.ca
SUMMARY:Virtual Information Session – August 14th\, 2024
DESCRIPTION:Fostering can be an incredibly rewarding experience. It can also be very challenging and frustrating at times\, and it is important to take the time to consider if it is right for you and your family at this time. \nPeople choose to become foster parents for many reasons\, but all share a love for children and the desire to help those in need without an expectation of receiving something in return.
URL:https://fosterhope.ca/event/virtual-information-session-august-14th-2024/
END:VEVENT
BEGIN:VEVENT
DTSTART;TZID=America/Vancouver:20240717T120000
DTEND;TZID=America/Vancouver:20240717T130000
DTSTAMP:20260420T213242
CREATED:20240523T215105Z
LAST-MODIFIED:20240523T215105Z
UID:1987-1721217600-1721221200@fosterhope.ca
SUMMARY:Virtual Information Session – July 17th\, 2024
DESCRIPTION:Fostering can be an incredibly rewarding experience. It can also be very challenging and frustrating at times\, and it is important to take the time to consider if it is right for you and your family at this time. \nPeople choose to become foster parents for many reasons\, but all share a love for children and the desire to help those in need without an expectation of receiving something in return.
URL:https://fosterhope.ca/event/virtual-information-session-july-17th-2024/
END:VEVENT
BEGIN:VEVENT
DTSTART;TZID=America/Vancouver:20240703T183000
DTEND;TZID=America/Vancouver:20240703T193000
DTSTAMP:20260420T213242
CREATED:20240523T214915Z
LAST-MODIFIED:20240523T214915Z
UID:1985-1720031400-1720035000@fosterhope.ca
SUMMARY:Virtual Information Session – July 3rd\, 2024
DESCRIPTION:Fostering can be an incredibly rewarding experience. It can also be very challenging and frustrating at times\, and it is important to take the time to consider if it is right for you and your family at this time. \nPeople choose to become foster parents for many reasons\, but all share a love for children and the desire to help those in need without an expectation of receiving something in return.
URL:https://fosterhope.ca/event/virtual-information-session-july-3rd-2024/
END:VEVENT
BEGIN:VEVENT
DTSTART;TZID=America/Vancouver:20240619T120000
DTEND;TZID=America/Vancouver:20240619T130000
DTSTAMP:20260420T213242
CREATED:20240221T165119Z
LAST-MODIFIED:20240221T165119Z
UID:1913-1718798400-1718802000@fosterhope.ca
SUMMARY:Virtual Information Session – June 19th\, 2024
DESCRIPTION:Fostering can be an incredibly rewarding experience. It can also be very challenging and frustrating at times\, and it is important to take the time to consider if it is right for you and your family at this time. \nPeople choose to become foster parents for many reasons\, but all share a love for children and the desire to help those in need without an expectation of receiving something in return.
URL:https://fosterhope.ca/event/virtual-information-session-june-19th-2024/
END:VEVENT
BEGIN:VEVENT
DTSTART;TZID=America/Vancouver:20240612T183000
DTEND;TZID=America/Vancouver:20240612T193000
DTSTAMP:20260420T213242
CREATED:20240221T165005Z
LAST-MODIFIED:20240221T165005Z
UID:1911-1718217000-1718220600@fosterhope.ca
SUMMARY:Virtual Information Session – June 12th\, 2024
DESCRIPTION:Fostering can be an incredibly rewarding experience. It can also be very challenging and frustrating at times\, and it is important to take the time to consider if it is right for you and your family at this time. \nPeople choose to become foster parents for many reasons\, but all share a love for children and the desire to help those in need without an expectation of receiving something in return.
URL:https://fosterhope.ca/event/virtual-information-session-june-12th-2024/
END:VEVENT
BEGIN:VEVENT
DTSTART;TZID=America/Vancouver:20240529T183000
DTEND;TZID=America/Vancouver:20240529T193000
DTSTAMP:20260420T213242
CREATED:20240221T163303Z
LAST-MODIFIED:20240221T163303Z
UID:1908-1717007400-1717011000@fosterhope.ca
SUMMARY:Virtual Information Session – May 29th\, 2024
DESCRIPTION:Fostering can be an incredibly rewarding experience. It can also be very challenging and frustrating at times\, and it is important to take the time to consider if it is right for you and your family at this time. \nPeople choose to become foster parents for many reasons\, but all share a love for children and the desire to help those in need without an expectation of receiving something in return.
URL:https://fosterhope.ca/event/virtual-information-session-may-29th-2024/
END:VEVENT
BEGIN:VEVENT
DTSTART;TZID=America/Vancouver:20240515T120000
DTEND;TZID=America/Vancouver:20240515T130000
DTSTAMP:20260420T213242
CREATED:20240221T163128Z
LAST-MODIFIED:20240221T163128Z
UID:1906-1715774400-1715778000@fosterhope.ca
SUMMARY:Virtual Information Session – May 15th\, 2024
DESCRIPTION:Fostering can be an incredibly rewarding experience. It can also be very challenging and frustrating at times\, and it is important to take the time to consider if it is right for you and your family at this time. \nPeople choose to become foster parents for many reasons\, but all share a love for children and the desire to help those in need without an expectation of receiving something in return.
URL:https://fosterhope.ca/event/virtual-information-session-may-15th-2024/
END:VEVENT
END:VCALENDAR